BEGIN:VCALENDAR
VERSION:2.0
PRODID:-//Camden Guides - ECPv6.15.11//NONSGML v1.0//EN
CALSCALE:GREGORIAN
METHOD:PUBLISH
X-WR-CALNAME:Camden Guides
X-ORIGINAL-URL:https://camdenguides.com
X-WR-CALDESC:Events for Camden Guides
REFRESH-INTERVAL;VALUE=DURATION:PT1H
X-Robots-Tag:noindex
X-PUBLISHED-TTL:PT1H
BEGIN:VTIMEZONE
TZID:Europe/London
BEGIN:DAYLIGHT
TZOFFSETFROM:+0000
TZOFFSETTO:+0100
TZNAME:BST
DTSTART:20230326T010000
END:DAYLIGHT
BEGIN:STANDARD
TZOFFSETFROM:+0100
TZOFFSETTO:+0000
TZNAME:GMT
DTSTART:20231029T010000
END:STANDARD
BEGIN:DAYLIGHT
TZOFFSETFROM:+0000
TZOFFSETTO:+0100
TZNAME:BST
DTSTART:20240331T010000
END:DAYLIGHT
BEGIN:STANDARD
TZOFFSETFROM:+0100
TZOFFSETTO:+0000
TZNAME:GMT
DTSTART:20241027T010000
END:STANDARD
BEGIN:DAYLIGHT
TZOFFSETFROM:+0000
TZOFFSETTO:+0100
TZNAME:BST
DTSTART:20250330T010000
END:DAYLIGHT
BEGIN:STANDARD
TZOFFSETFROM:+0100
TZOFFSETTO:+0000
TZNAME:GMT
DTSTART:20251026T010000
END:STANDARD
END:VTIMEZONE
BEGIN:VEVENT
DTSTART;TZID=Europe/London:20241103T110000
DTEND;TZID=Europe/London:20241103T130000
DTSTAMP:20260424T011706
CREATED:20240904T103552Z
LAST-MODIFIED:20240904T103743Z
UID:10000082-1730631600-1730638800@camdenguides.com
SUMMARY:A watery wander around King’s Cross and St. Pancras
DESCRIPTION:An almost-circular walk around King’s Cross and St. Pancras stations and the extraordinary\, vibrant redevelopment of what was a semi-derelict wasteland of railway lands. The area originally had a plentiful supply of water from the now-hidden River Fleet and associated lost springs and wells\, then the man-made Regent’s Canal supplied more water from the early 1800s.\nThis walk explores how all things watery have influenced the development of the area\, from lost pleasure gardens and an ancient church by a riverbank\, to canal locks\, steam engines and gas storage holders\, then today’s inspiring water features and a tranquil nature reserve. \nThis walk starts outside King’s Cross Station\, lasts 2 – 2 1/4 hours and ends near St. Pancras Station. \nPre-book only via Eventbrite\, click here to choose your date.
URL:https://camdenguides.com/event/a-watery-wander-around-kings-cross-and-st-pancras/2024-11-03/
LOCATION:King’s Cross Station\, Euston Road\,\, London\, N1 9AL\, United Kingdom
ATTACH;FMTTYPE=image/jpeg:https://camdenguides.com/wp-content/uploads/2024/09/Somers-bridge-water-tower-scaled.jpeg
ORGANIZER;CN="Lesley Thompson":MAILTO:walk@lesleythompson.co.uk
END:VEVENT
BEGIN:VEVENT
DTSTART;TZID=Europe/London:20241016T110000
DTEND;TZID=Europe/London:20241016T130000
DTSTAMP:20260424T011706
CREATED:20240904T103552Z
LAST-MODIFIED:20240904T103743Z
UID:10000081-1729076400-1729083600@camdenguides.com
SUMMARY:A watery wander around King’s Cross and St. Pancras
DESCRIPTION:An almost-circular walk around King’s Cross and St. Pancras stations and the extraordinary\, vibrant redevelopment of what was a semi-derelict wasteland of railway lands. The area originally had a plentiful supply of water from the now-hidden River Fleet and associated lost springs and wells\, then the man-made Regent’s Canal supplied more water from the early 1800s.\nThis walk explores how all things watery have influenced the development of the area\, from lost pleasure gardens and an ancient church by a riverbank\, to canal locks\, steam engines and gas storage holders\, then today’s inspiring water features and a tranquil nature reserve. \nThis walk starts outside King’s Cross Station\, lasts 2 – 2 1/4 hours and ends near St. Pancras Station. \nPre-book only via Eventbrite\, click here to choose your date.
URL:https://camdenguides.com/event/a-watery-wander-around-kings-cross-and-st-pancras/2024-10-16/
LOCATION:King’s Cross Station\, Euston Road\,\, London\, N1 9AL\, United Kingdom
ATTACH;FMTTYPE=image/jpeg:https://camdenguides.com/wp-content/uploads/2024/09/Somers-bridge-water-tower-scaled.jpeg
ORGANIZER;CN="Lesley Thompson":MAILTO:walk@lesleythompson.co.uk
END:VEVENT
END:VCALENDAR