BEGIN:VCALENDAR
VERSION:2.0
PRODID:-//Camden Guides - ECPv6.15.11//NONSGML v1.0//EN
CALSCALE:GREGORIAN
METHOD:PUBLISH
X-ORIGINAL-URL:https://camdenguides.com
X-WR-CALDESC:Events for Camden Guides
REFRESH-INTERVAL;VALUE=DURATION:PT1H
X-Robots-Tag:noindex
X-PUBLISHED-TTL:PT1H
BEGIN:VTIMEZONE
TZID:Europe/London
BEGIN:DAYLIGHT
TZOFFSETFROM:+0000
TZOFFSETTO:+0100
TZNAME:BST
DTSTART:20250330T010000
END:DAYLIGHT
BEGIN:STANDARD
TZOFFSETFROM:+0100
TZOFFSETTO:+0000
TZNAME:GMT
DTSTART:20251026T010000
END:STANDARD
BEGIN:DAYLIGHT
TZOFFSETFROM:+0000
TZOFFSETTO:+0100
TZNAME:BST
DTSTART:20260329T010000
END:DAYLIGHT
BEGIN:STANDARD
TZOFFSETFROM:+0100
TZOFFSETTO:+0000
TZNAME:GMT
DTSTART:20261025T010000
END:STANDARD
BEGIN:DAYLIGHT
TZOFFSETFROM:+0000
TZOFFSETTO:+0100
TZNAME:BST
DTSTART:20270328T010000
END:DAYLIGHT
BEGIN:STANDARD
TZOFFSETFROM:+0100
TZOFFSETTO:+0000
TZNAME:GMT
DTSTART:20271031T010000
END:STANDARD
END:VTIMEZONE
BEGIN:VEVENT
DTSTART;TZID=Europe/London:20260509T110000
DTEND;TZID=Europe/London:20260509T123000
DTSTAMP:20260423T115253
CREATED:20260131T155054Z
LAST-MODIFIED:20260131T155054Z
UID:10000144-1778324400-1778329800@camdenguides.com
SUMMARY:Historic Homes of Hampstead Village
DESCRIPTION:Since its development from a village to an 18th Century spa town and then a Victorian suburb\, Hampstead has retained its unspoilt Georgian charm with many listed townhouses and terraces. In the 19th and 20th Centuries this made it very popular with artists\, intellectuals and creatives of all kinds and there are many stories of influential figures who are former residents who left their mark on the area. Join our knowledgeable guide on this walking tour to learn more about the people and buildings that have shaped Hampstead\, where you will be introduced to a selection of the area’s finest historic homes.
URL:https://camdenguides.com/event/historic-homes-of-hampstead-village-2/2026-05-09/
ATTACH;FMTTYPE=image/jpeg:https://camdenguides.com/wp-content/uploads/2026/01/Historic-Homes.jpeg
END:VEVENT
END:VCALENDAR