BEGIN:VCALENDAR
VERSION:2.0
PRODID:-//Camden Guides - ECPv6.15.11//NONSGML v1.0//EN
CALSCALE:GREGORIAN
METHOD:PUBLISH
X-ORIGINAL-URL:https://camdenguides.com
X-WR-CALDESC:Events for Camden Guides
REFRESH-INTERVAL;VALUE=DURATION:PT1H
X-Robots-Tag:noindex
X-PUBLISHED-TTL:PT1H
BEGIN:VTIMEZONE
TZID:Europe/London
BEGIN:DAYLIGHT
TZOFFSETFROM:+0000
TZOFFSETTO:+0100
TZNAME:BST
DTSTART:20250330T010000
END:DAYLIGHT
BEGIN:STANDARD
TZOFFSETFROM:+0100
TZOFFSETTO:+0000
TZNAME:GMT
DTSTART:20251026T010000
END:STANDARD
BEGIN:DAYLIGHT
TZOFFSETFROM:+0000
TZOFFSETTO:+0100
TZNAME:BST
DTSTART:20260329T010000
END:DAYLIGHT
BEGIN:STANDARD
TZOFFSETFROM:+0100
TZOFFSETTO:+0000
TZNAME:GMT
DTSTART:20261025T010000
END:STANDARD
BEGIN:DAYLIGHT
TZOFFSETFROM:+0000
TZOFFSETTO:+0100
TZNAME:BST
DTSTART:20270328T010000
END:DAYLIGHT
BEGIN:STANDARD
TZOFFSETFROM:+0100
TZOFFSETTO:+0000
TZNAME:GMT
DTSTART:20271031T010000
END:STANDARD
END:VTIMEZONE
BEGIN:VEVENT
DTSTART;TZID=Europe/London:20260508T110000
DTEND;TZID=Europe/London:20260508T130000
DTSTAMP:20260423T102921
CREATED:20260403T174543Z
LAST-MODIFIED:20260403T174543Z
UID:10000171-1778238000-1778245200@camdenguides.com
SUMMARY:Women Who Broke the Rules: Bloomsbury Walking Tour
DESCRIPTION:A guided walk led by Elena Paolini\, Camden and City of London guide\, to celebrate women’s history \nBloomsbury\, a hotbed of radical ideas\, has always attracted women who refused to conform. This Women’s History Month\, we will walk in the footsteps of suffragists who demanded the vote\, women doctors who fought to practise medicine\, artists who defied expectations\, reformers and pioneers who transformed women’s education. As home to the 200 year old University of London\, the first secular university in Britain to admit women in 1878\, Bloomsbury nurtured thinkers who challenged conventions and changed the world. From political rebels to medical mavericks\, this walking tour celebrates bold women who refused to think – or live – inside the box.
URL:https://camdenguides.com/event/women-who-broke-the-rules-bloomsbury-walking-tour-2/
ATTACH;FMTTYPE=image/jpeg:https://camdenguides.com/wp-content/uploads/2026/04/women-with.jpeg
END:VEVENT
END:VCALENDAR