BEGIN:VCALENDAR
VERSION:2.0
PRODID:-//Camden Guides - ECPv6.15.11//NONSGML v1.0//EN
CALSCALE:GREGORIAN
METHOD:PUBLISH
X-ORIGINAL-URL:https://camdenguides.com
X-WR-CALDESC:Events for Camden Guides
REFRESH-INTERVAL;VALUE=DURATION:PT1H
X-Robots-Tag:noindex
X-PUBLISHED-TTL:PT1H
BEGIN:VTIMEZONE
TZID:Europe/London
BEGIN:DAYLIGHT
TZOFFSETFROM:+0000
TZOFFSETTO:+0100
TZNAME:BST
DTSTART:20250330T010000
END:DAYLIGHT
BEGIN:STANDARD
TZOFFSETFROM:+0100
TZOFFSETTO:+0000
TZNAME:GMT
DTSTART:20251026T010000
END:STANDARD
BEGIN:DAYLIGHT
TZOFFSETFROM:+0000
TZOFFSETTO:+0100
TZNAME:BST
DTSTART:20260329T010000
END:DAYLIGHT
BEGIN:STANDARD
TZOFFSETFROM:+0100
TZOFFSETTO:+0000
TZNAME:GMT
DTSTART:20261025T010000
END:STANDARD
BEGIN:DAYLIGHT
TZOFFSETFROM:+0000
TZOFFSETTO:+0100
TZNAME:BST
DTSTART:20270328T010000
END:DAYLIGHT
BEGIN:STANDARD
TZOFFSETFROM:+0100
TZOFFSETTO:+0000
TZNAME:GMT
DTSTART:20271031T010000
END:STANDARD
END:VTIMEZONE
BEGIN:VEVENT
DTSTART;TZID=Europe/London:20260428T100000
DTEND;TZID=Europe/London:20260428T120000
DTSTAMP:20260423T080023
CREATED:20260403T174144Z
LAST-MODIFIED:20260403T174144Z
UID:10000170-1777370400-1777377600@camdenguides.com
SUMMARY:Nooks and Crannies of Covent Garden
DESCRIPTION:The hidden parts of St Giles and Covent Garden. Explore the history of the area from leper colony via plague pits\, executions\, slums to the vibrant centre we see today. What lies beneath the surface? Why has it been on a rollercoaster of ups and downs? Meet the mixed bag of characters who have lived in these streets-the original muffin man\, pioneering women doctors\, music makers and freemasons. Amid the noise and bustle\, sit in a quiet oasis of a communal garden. The walk lasts 2 hours\, starts at Tottenham Court Road station and ends near Covent Garden tube.
URL:https://camdenguides.com/event/nooks-and-crannies-of-covent-garden/
END:VEVENT
END:VCALENDAR