BEGIN:VCALENDAR
VERSION:2.0
PRODID:-//Camden Guides - ECPv6.15.11//NONSGML v1.0//EN
CALSCALE:GREGORIAN
METHOD:PUBLISH
X-WR-CALNAME:Camden Guides
X-ORIGINAL-URL:https://camdenguides.com
X-WR-CALDESC:Events for Camden Guides
REFRESH-INTERVAL;VALUE=DURATION:PT1H
X-Robots-Tag:noindex
X-PUBLISHED-TTL:PT1H
BEGIN:VTIMEZONE
TZID:Europe/London
BEGIN:DAYLIGHT
TZOFFSETFROM:+0000
TZOFFSETTO:+0100
TZNAME:BST
DTSTART:20250330T010000
END:DAYLIGHT
BEGIN:STANDARD
TZOFFSETFROM:+0100
TZOFFSETTO:+0000
TZNAME:GMT
DTSTART:20251026T010000
END:STANDARD
BEGIN:DAYLIGHT
TZOFFSETFROM:+0000
TZOFFSETTO:+0100
TZNAME:BST
DTSTART:20260329T010000
END:DAYLIGHT
BEGIN:STANDARD
TZOFFSETFROM:+0100
TZOFFSETTO:+0000
TZNAME:GMT
DTSTART:20261025T010000
END:STANDARD
BEGIN:DAYLIGHT
TZOFFSETFROM:+0000
TZOFFSETTO:+0100
TZNAME:BST
DTSTART:20270328T010000
END:DAYLIGHT
BEGIN:STANDARD
TZOFFSETFROM:+0100
TZOFFSETTO:+0000
TZNAME:GMT
DTSTART:20271031T010000
END:STANDARD
END:VTIMEZONE
BEGIN:VEVENT
DTSTART;TZID=Europe/London:20260424T110000
DTEND;TZID=Europe/London:20260424T130000
DTSTAMP:20260424T011451
CREATED:20260227T172115Z
LAST-MODIFIED:20260227T172115Z
UID:10000167-1777028400-1777035600@camdenguides.com
SUMMARY:Secrets of St. Giles and Seven Dials: a walk through London's dark past
DESCRIPTION:Join Elena to discover a fascinating neighbourhood that not many people know.\nWe will delve into the darker chapters of London’s past as we uncover the secrets of this infamous neighbourhood.\nWe will wander through the alleys where tales of poverty and crime once echoed (Dickens will get a mention or two\, of course…) and discover the remnants of centuries-old buildings that bear witness to St Giles’ tumultuous history.\nAs we wind our way from the ancient church built on the site of a leper colony to the site of the infamous rookeries and gallows\, now replaced by some of the most striking modern architecture in London\, we’ll talk music\, pubs\, executions and developers’ greed. There is something for everyone!
URL:https://camdenguides.com/event/secrets-of-st-giles-and-seven-dials-a-walk-through-londons-dark-past-2/
ATTACH;FMTTYPE=image/jpeg:https://camdenguides.com/wp-content/uploads/2026/02/st-giles.jpg
END:VEVENT
END:VCALENDAR