BEGIN:VCALENDAR
VERSION:2.0
PRODID:-//Camden Guides - ECPv6.15.11//NONSGML v1.0//EN
CALSCALE:GREGORIAN
METHOD:PUBLISH
X-ORIGINAL-URL:https://camdenguides.com
X-WR-CALDESC:Events for Camden Guides
REFRESH-INTERVAL;VALUE=DURATION:PT1H
X-Robots-Tag:noindex
X-PUBLISHED-TTL:PT1H
BEGIN:VTIMEZONE
TZID:Europe/London
BEGIN:DAYLIGHT
TZOFFSETFROM:+0000
TZOFFSETTO:+0100
TZNAME:BST
DTSTART:20250330T010000
END:DAYLIGHT
BEGIN:STANDARD
TZOFFSETFROM:+0100
TZOFFSETTO:+0000
TZNAME:GMT
DTSTART:20251026T010000
END:STANDARD
BEGIN:DAYLIGHT
TZOFFSETFROM:+0000
TZOFFSETTO:+0100
TZNAME:BST
DTSTART:20260329T010000
END:DAYLIGHT
BEGIN:STANDARD
TZOFFSETFROM:+0100
TZOFFSETTO:+0000
TZNAME:GMT
DTSTART:20261025T010000
END:STANDARD
BEGIN:DAYLIGHT
TZOFFSETFROM:+0000
TZOFFSETTO:+0100
TZNAME:BST
DTSTART:20270328T010000
END:DAYLIGHT
BEGIN:STANDARD
TZOFFSETFROM:+0100
TZOFFSETTO:+0000
TZNAME:GMT
DTSTART:20271031T010000
END:STANDARD
END:VTIMEZONE
BEGIN:VEVENT
DTSTART;TZID=Europe/London:20260329T140000
DTEND;TZID=Europe/London:20260329T160000
DTSTAMP:20260423T140748
CREATED:20260131T153918Z
LAST-MODIFIED:20260131T153918Z
UID:10000142-1774792800-1774800000@camdenguides.com
SUMMARY:The Trollopes of Bloomsbury
DESCRIPTION:Both Anthony Trollope and his mother Fanny were proliflc and successful writers.\nAnthony\, born in Bloomsbury is best known for the Barchester Chronicles and Paliser novels where Catherdral towns and country houses often overshadow the place of Bloomsbury. But this area which “cannot be called fashionable” and is “not much overlooked by nobility” offers lodgings and temptation to young clerks like Johnny Eade and affordable accomodation for impoverished women like Lady Anna.\nJoin Sue to follow the links between Anthony Trollope’s own life as a civil servant at the Post Office\, his fiction with its Bloomsbury locations and the influence of Fanny Trollope’s writing on her son’s work.
URL:https://camdenguides.com/event/the-trollopes-of-bloomsbury/
ATTACH;FMTTYPE=image/jpeg:https://camdenguides.com/wp-content/uploads/2026/01/Trollops-scaled.jpeg
END:VEVENT
END:VCALENDAR