BEGIN:VCALENDAR
VERSION:2.0
PRODID:-//Camden Guides - ECPv6.15.11//NONSGML v1.0//EN
CALSCALE:GREGORIAN
METHOD:PUBLISH
X-ORIGINAL-URL:https://camdenguides.com
X-WR-CALDESC:Events for Camden Guides
REFRESH-INTERVAL;VALUE=DURATION:PT1H
X-Robots-Tag:noindex
X-PUBLISHED-TTL:PT1H
BEGIN:VTIMEZONE
TZID:Europe/London
BEGIN:DAYLIGHT
TZOFFSETFROM:+0000
TZOFFSETTO:+0100
TZNAME:BST
DTSTART:20250330T010000
END:DAYLIGHT
BEGIN:STANDARD
TZOFFSETFROM:+0100
TZOFFSETTO:+0000
TZNAME:GMT
DTSTART:20251026T010000
END:STANDARD
BEGIN:DAYLIGHT
TZOFFSETFROM:+0000
TZOFFSETTO:+0100
TZNAME:BST
DTSTART:20260329T010000
END:DAYLIGHT
BEGIN:STANDARD
TZOFFSETFROM:+0100
TZOFFSETTO:+0000
TZNAME:GMT
DTSTART:20261025T010000
END:STANDARD
BEGIN:DAYLIGHT
TZOFFSETFROM:+0000
TZOFFSETTO:+0100
TZNAME:BST
DTSTART:20270328T010000
END:DAYLIGHT
BEGIN:STANDARD
TZOFFSETFROM:+0100
TZOFFSETTO:+0000
TZNAME:GMT
DTSTART:20271031T010000
END:STANDARD
END:VTIMEZONE
BEGIN:VEVENT
DTSTART;TZID=Europe/London:20260328T113000
DTEND;TZID=Europe/London:20260328T133000
DTSTAMP:20260423T154751
CREATED:20260227T171742Z
LAST-MODIFIED:20260227T171742Z
UID:10000166-1774697400-1774704600@camdenguides.com
SUMMARY:Music and Revolution in Camden Town
DESCRIPTION:Camden Town has been a hotbed of musical scenes and counter-cultures for over 50 years!\nBut where did it get the grit and charm that has inspired so many musicians and writers? From open fields to steam and stench\, industrial powerhouse to drinkers paradise\, and from radical thinkers to musical rebellion – what is it that put this tiny area of Camden Town on the global stage and spawned cultural movements that changed the world? Join me as we look beyond the t-shirt stands and souvenir stalls to discover the places where counter cultures were born and musical history was made. Find out how Camden Town became the beating heart of Rock\, Punk\, Britpop and beyond! The tour will naturally end in one of Camden’s fine pubs where you can soak up the atmosphere and find some inspiration of your own 😉
URL:https://camdenguides.com/event/music-and-revolution-in-camden-town/2026-03-28/
ATTACH;FMTTYPE=image/jpeg:https://camdenguides.com/wp-content/uploads/2026/02/music-and-revolution-scaled.jpg
END:VEVENT
END:VCALENDAR